BEGIN:VCALENDAR
VERSION:2.0
PRODID:-//Therapy Dogs of Vermont - ECPv6.15.20//NONSGML v1.0//EN
CALSCALE:GREGORIAN
METHOD:PUBLISH
X-WR-CALNAME:Therapy Dogs of Vermont
X-ORIGINAL-URL:https://therapydogs.org
X-WR-CALDESC:Events for Therapy Dogs of Vermont
REFRESH-INTERVAL;VALUE=DURATION:PT1H
X-Robots-Tag:noindex
X-PUBLISHED-TTL:PT1H
BEGIN:VTIMEZONE
TZID:America/New_York
BEGIN:DAYLIGHT
TZOFFSETFROM:-0500
TZOFFSETTO:-0400
TZNAME:EDT
DTSTART:20250309T070000
END:DAYLIGHT
BEGIN:STANDARD
TZOFFSETFROM:-0400
TZOFFSETTO:-0500
TZNAME:EST
DTSTART:20251102T060000
END:STANDARD
BEGIN:DAYLIGHT
TZOFFSETFROM:-0500
TZOFFSETTO:-0400
TZNAME:EDT
DTSTART:20260308T070000
END:DAYLIGHT
BEGIN:STANDARD
TZOFFSETFROM:-0400
TZOFFSETTO:-0500
TZNAME:EST
DTSTART:20261101T060000
END:STANDARD
BEGIN:DAYLIGHT
TZOFFSETFROM:-0500
TZOFFSETTO:-0400
TZNAME:EDT
DTSTART:20270314T070000
END:DAYLIGHT
BEGIN:STANDARD
TZOFFSETFROM:-0400
TZOFFSETTO:-0500
TZNAME:EST
DTSTART:20271107T060000
END:STANDARD
END:VTIMEZONE
BEGIN:VEVENT
DTSTART;TZID=America/New_York:20260712T103000
DTEND;TZID=America/New_York:20260712T120000
DTSTAMP:20260423T041709
CREATED:20260415T164202Z
LAST-MODIFIED:20260415T164202Z
UID:2546-1783852200-1783857600@therapydogs.org
SUMMARY:Certification Test
DESCRIPTION:TDV will confirm your testing date request via email; to review\, and prepare for\, the certification process\, go to Therapy Dog Test & Certification
URL:https://therapydogs.org/schedule/certification-test-16/
LOCATION:Williston Location TBD\, Williston\, VT\, United States
CATEGORIES:Certification
END:VEVENT
BEGIN:VEVENT
DTSTART;TZID=America/New_York:20260712T123000
DTEND;TZID=America/New_York:20260712T140000
DTSTAMP:20260423T041709
CREATED:20260415T164328Z
LAST-MODIFIED:20260415T164328Z
UID:2547-1783859400-1783864800@therapydogs.org
SUMMARY:Certification Test
DESCRIPTION:TDV will confirm your testing date request via email; to review\, and prepare for\, the certification process\, go to Therapy Dog Test & Certification
URL:https://therapydogs.org/schedule/certification-test-29/
LOCATION:Williston Location TBD\, Williston\, VT\, United States
CATEGORIES:Certification
END:VEVENT
BEGIN:VEVENT
DTSTART;TZID=America/New_York:20260816T103000
DTEND;TZID=America/New_York:20260816T130000
DTSTAMP:20260423T041709
CREATED:20260414T180103Z
LAST-MODIFIED:20260414T180103Z
UID:2544-1786876200-1786885200@therapydogs.org
SUMMARY:Prep Clinic
DESCRIPTION:$90 per dog/one human handler (one guest is permitted to observe only) Audit without a dog for $65 per person. \nParticipants will experience the full TDV test in the first hour of the clinic (with blow-by-blow description of what we’re looking for\, what we fail for\, and why we do each part of the test). The second part will involve advice and hands-on training related to therapy dog work. Please review all clinic policies and restrictions prior to registration. \nPrep Clinic Rules & Policies – Therapy Dogs of Vermont
URL:https://therapydogs.org/schedule/prep-clinic-7/
LOCATION:Williston Location TBD\, Williston\, VT\, United States
CATEGORIES:Prep Clinic
END:VEVENT
BEGIN:VEVENT
DTSTART;TZID=America/New_York:20260822T103000
DTEND;TZID=America/New_York:20260822T113000
DTSTAMP:20260423T041709
CREATED:20251027T171707Z
LAST-MODIFIED:20251027T171707Z
UID:2482-1787394600-1787398200@therapydogs.org
SUMMARY:Certification Test
DESCRIPTION:TDV will confirm your testing date request via email; to review\, and prepare for\, the certification process\, go to Therapy Dog Test & Certification
URL:https://therapydogs.org/schedule/certification-test-26/
LOCATION:Wells River Location TBD\, Wells River\, Vermont
CATEGORIES:Certification
END:VEVENT
BEGIN:VEVENT
DTSTART;TZID=America/New_York:20260913T103000
DTEND;TZID=America/New_York:20260913T120000
DTSTAMP:20260423T041709
CREATED:20260415T164500Z
LAST-MODIFIED:20260415T164500Z
UID:2548-1789295400-1789300800@therapydogs.org
SUMMARY:Certification Test
DESCRIPTION:TDV will confirm your testing date request via email; to review\, and prepare for\, the certification process\, go to Therapy Dog Test & Certification
URL:https://therapydogs.org/schedule/certification-test-30/
LOCATION:Williston Location TBD\, Williston\, VT\, United States
CATEGORIES:Certification
END:VEVENT
BEGIN:VEVENT
DTSTART;TZID=America/New_York:20260913T123000
DTEND;TZID=America/New_York:20260913T140000
DTSTAMP:20260423T041709
CREATED:20260415T164636Z
LAST-MODIFIED:20260415T164636Z
UID:2549-1789302600-1789308000@therapydogs.org
SUMMARY:Certification Test
DESCRIPTION:TDV will confirm your testing date request via email; to review\, and prepare for\, the certification process\, go to Therapy Dog Test & Certification
URL:https://therapydogs.org/schedule/certification-test-31/
LOCATION:Williston Location TBD\, Williston\, VT\, United States
CATEGORIES:Certification
END:VEVENT
BEGIN:VEVENT
DTSTART;TZID=America/New_York:20261010T130000
DTEND;TZID=America/New_York:20261010T140000
DTSTAMP:20260423T041709
CREATED:20251027T172025Z
LAST-MODIFIED:20260414T165404Z
UID:2484-1791637200-1791640800@therapydogs.org
SUMMARY:Certification Test
DESCRIPTION:TDV will confirm your testing date request via email; to review\, and prepare for\, the certification process\, go to Therapy Dog Test & Certification
URL:https://therapydogs.org/schedule/certification-test-28/
LOCATION:Rutland\, VT
CATEGORIES:Certification
END:VEVENT
BEGIN:VEVENT
DTSTART;TZID=America/New_York:20261018T103000
DTEND;TZID=America/New_York:20261018T130000
DTSTAMP:20260423T041709
CREATED:20260414T180232Z
LAST-MODIFIED:20260414T180232Z
UID:2545-1792319400-1792328400@therapydogs.org
SUMMARY:Prep Clinic
DESCRIPTION:$90 per dog/one human handler (one guest is permitted to observe only) Audit without a dog for $65 per person. \nParticipants will experience the full TDV test in the first hour of the clinic (with blow-by-blow description of what we’re looking for\, what we fail for\, and why we do each part of the test). The second part will involve advice and hands-on training related to therapy dog work. Please review all clinic policies and restrictions prior to registration. \nPrep Clinic Rules & Policies – Therapy Dogs of Vermont
URL:https://therapydogs.org/schedule/prep-clinic-8/
LOCATION:Williston Location TBD\, Williston\, VT\, United States
CATEGORIES:Prep Clinic
END:VEVENT
BEGIN:VEVENT
DTSTART;TZID=America/New_York:20261115T103000
DTEND;TZID=America/New_York:20261115T120000
DTSTAMP:20260423T041709
CREATED:20260415T164749Z
LAST-MODIFIED:20260415T164749Z
UID:2550-1794738600-1794744000@therapydogs.org
SUMMARY:Certification Test
DESCRIPTION:TDV will confirm your testing date request via email; to review\, and prepare for\, the certification process\, go to Therapy Dog Test & Certification
URL:https://therapydogs.org/schedule/certification-test-32/
LOCATION:Williston Location TBD\, Williston\, VT\, United States
CATEGORIES:Certification
END:VEVENT
BEGIN:VEVENT
DTSTART;TZID=America/New_York:20261115T123000
DTEND;TZID=America/New_York:20261115T140000
DTSTAMP:20260423T041709
CREATED:20260415T164906Z
LAST-MODIFIED:20260415T164906Z
UID:2551-1794745800-1794751200@therapydogs.org
SUMMARY:Certification Test
DESCRIPTION:TDV will confirm your testing date request via email; to review\, and prepare for\, the certification process\, go to Therapy Dog Test & Certification
URL:https://therapydogs.org/schedule/certification-test-33/
LOCATION:Williston Location TBD\, Williston\, VT\, United States
CATEGORIES:Certification
END:VEVENT
END:VCALENDAR